BEGIN:VCALENDAR
VERSION:2.0
PRODID:-//Tukios.com/
BEGIN:VEVENT
UID:2f3ca5e3-1e32-49c1-81c3-5441fe15e29b@www.victorylifecelebrations.com
DTSTAMP:20260423T021550Z
DTSTART:20260502T150000Z
DTEND:20260502T160000Z
SUMMARY:Viewing
DESCRIPTION:
URL:https://www.victorylifecelebrations.com/obituaries/naomi-collins
LOCATION:Faith Pentecostal House of God 956 West Hal McRae Boulevard  
	Avon Park FL 33825
GEO:27.5850406;-81.5121949
END:VEVENT
END:VCALENDAR