BEGIN:VCALENDAR
VERSION:2.0
PRODID:-//Tukios.com/
BEGIN:VEVENT
UID:95f775c4-62bf-4303-8dd1-3b992bf093dc@www.victorylifecelebrations.com
DTSTAMP:20260423T021631Z
DTSTART:20260502T160000Z
DTEND:20260502T170000Z
SUMMARY:Celebration of Life
DESCRIPTION:
URL:https://www.victorylifecelebrations.com/obituaries/naomi-collins
LOCATION:Faith Pentecostal House of God 956 West Hal McRae Boulevard  
	Avon Park FL 33825
GEO:27.5850406;-81.5121949
END:VEVENT
END:VCALENDAR